BEGIN:VCALENDAR
VERSION:2.0
PRODID:-//Bonnie Brae Civic Association - ECPv6.15.20//NONSGML v1.0//EN
CALSCALE:GREGORIAN
METHOD:PUBLISH
X-WR-CALNAME:Bonnie Brae Civic Association
X-ORIGINAL-URL:https://bonniebrae.net
X-WR-CALDESC:Events for Bonnie Brae Civic Association
REFRESH-INTERVAL;VALUE=DURATION:PT1H
X-Robots-Tag:noindex
X-PUBLISHED-TTL:PT1H
BEGIN:VTIMEZONE
TZID:UTC
BEGIN:STANDARD
TZOFFSETFROM:+0000
TZOFFSETTO:+0000
TZNAME:UTC
DTSTART:20230101T000000
END:STANDARD
END:VTIMEZONE
BEGIN:VEVENT
DTSTART;TZID=UTC:20250717T180000
DTEND;TZID=UTC:20250717T210000
DTSTAMP:20260425T135327
CREATED:20250112T024451Z
LAST-MODIFIED:20250112T024451Z
UID:400-1752775200-1752786000@bonniebrae.net
SUMMARY:Bunnyman Brewery Monthly Meetup
DESCRIPTION:Every 3rd Thursday of the month from 6-9pm\, come join your neighbors for a beer\, hard seltzer or craft soda at the local Bunnyman Brewery! Bring your friends — even kids and dogs are welcome if they behave (and with dogs\, if we’re at a table outside). Bunnyman supplies a variety of brews\, but customers are encouraged to bring their own food and snacks or purchase meals from the food truck usually parked outside.  \nCheck out the Bonnie Brae Facebook page for updates!
URL:https://bonniebrae.net/event/bunnyman-brewery-monthly-meetup-12/
LOCATION:Bunnyman Brewing\, 5583 Guinea Rd\, Fairfax\, Virginia
CATEGORIES:Adult & Family Socials
END:VEVENT
BEGIN:VEVENT
DTSTART;TZID=UTC:20250619T180000
DTEND;TZID=UTC:20250619T210000
DTSTAMP:20260425T135327
CREATED:20250112T024418Z
LAST-MODIFIED:20250112T024418Z
UID:399-1750356000-1750366800@bonniebrae.net
SUMMARY:Bunnyman Brewery Monthly Meetup
DESCRIPTION:Every 3rd Thursday of the month from 6-9pm\, come join your neighbors for a beer\, hard seltzer or craft soda at the local Bunnyman Brewery! Bring your friends — even kids and dogs are welcome if they behave (and with dogs\, if we’re at a table outside). Bunnyman supplies a variety of brews\, but customers are encouraged to bring their own food and snacks or purchase meals from the food truck usually parked outside.  \nCheck out the Bonnie Brae Facebook page for updates!
URL:https://bonniebrae.net/event/bunnyman-brewery-monthly-meetup-11/
LOCATION:Bunnyman Brewing\, 5583 Guinea Rd\, Fairfax\, Virginia
CATEGORIES:Adult & Family Socials
END:VEVENT
BEGIN:VEVENT
DTSTART;TZID=UTC:20250515T180000
DTEND;TZID=UTC:20250515T210000
DTSTAMP:20260425T135327
CREATED:20250112T024346Z
LAST-MODIFIED:20250112T024346Z
UID:398-1747332000-1747342800@bonniebrae.net
SUMMARY:Bunnyman Brewery Monthly Meetup
DESCRIPTION:Every 3rd Thursday of the month from 6-9pm\, come join your neighbors for a beer\, hard seltzer or craft soda at the local Bunnyman Brewery! Bring your friends — even kids and dogs are welcome if they behave (and with dogs\, if we’re at a table outside). Bunnyman supplies a variety of brews\, but customers are encouraged to bring their own food and snacks or purchase meals from the food truck usually parked outside.  \nCheck out the Bonnie Brae Facebook page for updates!
URL:https://bonniebrae.net/event/bunnyman-brewery-monthly-meetup-10/
LOCATION:Bunnyman Brewing\, 5583 Guinea Rd\, Fairfax\, Virginia
CATEGORIES:Adult & Family Socials
END:VEVENT
BEGIN:VEVENT
DTSTART;TZID=UTC:20250417T180000
DTEND;TZID=UTC:20250417T210000
DTSTAMP:20260425T135327
CREATED:20250112T024303Z
LAST-MODIFIED:20250112T024303Z
UID:397-1744912800-1744923600@bonniebrae.net
SUMMARY:Bunnyman Brewery Monthly Meetup
DESCRIPTION:Every 3rd Thursday of the month from 6-9pm\, come join your neighbors for a beer\, hard seltzer or craft soda at the local Bunnyman Brewery! Bring your friends — even kids and dogs are welcome if they behave (and with dogs\, if we’re at a table outside). Bunnyman supplies a variety of brews\, but customers are encouraged to bring their own food and snacks or purchase meals from the food truck usually parked outside.  \nCheck out the Bonnie Brae Facebook page for updates!
URL:https://bonniebrae.net/event/bunnyman-brewery-monthly-meetup-9/
LOCATION:Bunnyman Brewing\, 5583 Guinea Rd\, Fairfax\, Virginia
CATEGORIES:Adult & Family Socials
END:VEVENT
BEGIN:VEVENT
DTSTART;TZID=UTC:20250406T140000
DTEND;TZID=UTC:20250406T140000
DTSTAMP:20260425T135327
CREATED:20250323T005118Z
LAST-MODIFIED:20250406T010610Z
UID:443-1743948000-1743948000@bonniebrae.net
SUMMARY:Egg Hunt at Woodglen Lake (featuring the Easter Bunny!)
DESCRIPTION:The Easter Bunny will be hopping over to Woodglen Lake to oversee Bonnie Brae’s Egg Hunt and welcome Spring with Bonnie Brae’s kids!\n\nEgg Hunt Eggs-pert? Don’t forget a basket or bag!\nPrepare to strike your most egg-cellent pose with the Easter Bunny!\nWindy day? Feel free to bring a kite for an eggs-traordinarily good time!
URL:https://bonniebrae.net/event/egg-hunt-at-woodglen-lake-featuring-the-easter-bunny/
LOCATION:Woodglen Lake\, Woodglen Lake\, Fairfax Station\, VA\, 22032\, United States
CATEGORIES:Adult & Family Socials
ATTACH;FMTTYPE=image/jpeg:https://bonniebrae.net/wp-content/uploads/2025/03/20230326_143539-scaled.jpg
END:VEVENT
BEGIN:VEVENT
DTSTART;TZID=UTC:20250405T183000
DTEND;TZID=UTC:20250405T203000
DTSTAMP:20260425T135327
CREATED:20250326T001425Z
LAST-MODIFIED:20250326T001425Z
UID:448-1743877800-1743885000@bonniebrae.net
SUMMARY:Bonnie Brae at BINGO Night!
DESCRIPTION:Join your neighbors at an upcoming family-friendly BINGO Night hosted at the local Catholic Church\, St. Mary of Sorrows\, in Farrell Hall.\n\nThis event is hosted by the church\, but is a great opportunity to meet and get to know your neighbors. We’ll use the chat to keep in touch with who is attending\, where they’re sitting\, etc.\n\nA handful attended last month and had a blast!\n\nInfo below was provided by the event organizers.\n\n————$10 buy-in for 2 BINGO cardsCash prizesFood sale starts at 6:00PM — including Chili\, Hot dogs\, and a bake sale\nDon’t miss out on the fun! Bring the whole family!\nAll proceeds from April’s Family Fun Bingo Games will benefit TEACH (teacham.org)\, which is a nonprofit organization\, 501(c)(3)\, operated by a volunteer Board of Directors. It was established in 2002 to respond to unmet educational needs in remote and impoverished areas of Guatemala. In 2015\, TEACH supported the education of 589 Guatemalan children.\nKnights of Columbus\, Council 8600\, is proud to sponsor this event.
URL:https://bonniebrae.net/event/bonnie-brae-at-bingo-night/
LOCATION:St. Mary of Sorrows Catholic Church\, 10500 Sideburn Rd\, Fairfax\, VA\, 22032\, United States
ORGANIZER;CN="Charlie Gulac":MAILTO:cgulac88@gmail.com
END:VEVENT
BEGIN:VEVENT
DTSTART;TZID=UTC:20250320T180000
DTEND;TZID=UTC:20250320T210000
DTSTAMP:20260425T135327
CREATED:20250112T024206Z
LAST-MODIFIED:20250112T024206Z
UID:395-1742493600-1742504400@bonniebrae.net
SUMMARY:Bunnyman Brewery Monthly Meetup
DESCRIPTION:Every 3rd Thursday of the month from 6-9pm\, come join your neighbors for a beer\, hard seltzer or craft soda at the local Bunnyman Brewery! Bring your friends — even kids and dogs are welcome if they behave (and with dogs\, if we’re at a table outside). Bunnyman supplies a variety of brews\, but customers are encouraged to bring their own food and snacks or purchase meals from the food truck usually parked outside.  \nCheck out the Bonnie Brae Facebook page for updates!
URL:https://bonniebrae.net/event/bunnyman-brewery-monthly-meetup-7/
LOCATION:Bunnyman Brewing\, 5583 Guinea Rd\, Fairfax\, Virginia
CATEGORIES:Adult & Family Socials
END:VEVENT
BEGIN:VEVENT
DTSTART;TZID=UTC:20250319T080000
DTEND;TZID=UTC:20250319T100000
DTSTAMP:20260425T135327
CREATED:20250128T031725Z
LAST-MODIFIED:20250128T031725Z
UID:439-1742371200-1742378400@bonniebrae.net
SUMMARY:BBCA ROMEO Club Monthly Meetup
DESCRIPTION:The monthly ROMEO Club meetings are held every 3rd Wednesday of the month at 9 am — currently at Chloez’s Cafe. We make every effort to meet at different locations to take advantage of\, and support\, our local eateries. BBCA retirees\, do join us for interesting breakfasts – and conversations! \n\nThis month\, we will discuss Guam’s History and Strategic Location in the Pacific. \n\nPlease contact: Charlie Gulac\, 703-323-6694\, email: cgulac88@gmail.com.
URL:https://bonniebrae.net/event/bbca-romeo-club-monthly-meetup/
LOCATION:Chloez’s Cafe\, 5622 Ox Rd Unit F\, Fairfax Station\, VA\, 22039\, United States
ORGANIZER;CN="Charlie Gulac":MAILTO:cgulac88@gmail.com
END:VEVENT
BEGIN:VEVENT
DTSTART;TZID=UTC:20250226T080000
DTEND;TZID=UTC:20250226T100000
DTSTAMP:20260425T135327
CREATED:20250128T031404Z
LAST-MODIFIED:20250128T031404Z
UID:436-1740556800-1740564000@bonniebrae.net
SUMMARY:ROMEO Club - Udvar Hazy Tour!
DESCRIPTION:This month’s ROMEO Club get-together will be a little different. This month\, we will will be taking a tour of Udvar-Hazy Center (UHC)!\n \n\n\nPlease contact: Charlie Gulac\, 703-323-6694\, email: cgulac88@gmail.com.
URL:https://bonniebrae.net/event/romeo-club-udvar-hazy-tour/
LOCATION:Udvar Hazy Center\, Steven F. Udvar-Hazy Center\, 14390 Air and Space Museum Pkwy\, Chantilly\, VA\, 20151\, United States
ORGANIZER;CN="Charlie Gulac":MAILTO:cgulac88@gmail.com
END:VEVENT
BEGIN:VEVENT
DTSTART;TZID=UTC:20250220T180000
DTEND;TZID=UTC:20250220T210000
DTSTAMP:20260425T135327
CREATED:20250112T024228Z
LAST-MODIFIED:20250112T024228Z
UID:396-1740074400-1740085200@bonniebrae.net
SUMMARY:Bunnyman Brewery Monthly Meetup
DESCRIPTION:Every 3rd Thursday of the month from 6-9pm\, come join your neighbors for a beer\, hard seltzer or craft soda at the local Bunnyman Brewery! Bring your friends — even kids and dogs are welcome if they behave (and with dogs\, if we’re at a table outside). Bunnyman supplies a variety of brews\, but customers are encouraged to bring their own food and snacks or purchase meals from the food truck usually parked outside.  \nCheck out the Bonnie Brae Facebook page for updates!
URL:https://bonniebrae.net/event/bunnyman-brewery-monthly-meetup-8/
LOCATION:Bunnyman Brewing\, 5583 Guinea Rd\, Fairfax\, Virginia
CATEGORIES:Adult & Family Socials
END:VEVENT
BEGIN:VEVENT
DTSTART;TZID=UTC:20250117T180000
DTEND;TZID=UTC:20250117T210000
DTSTAMP:20260425T135327
CREATED:20250112T023556Z
LAST-MODIFIED:20250112T023556Z
UID:390-1737136800-1737147600@bonniebrae.net
SUMMARY:Bunnyman Brewery Monthly Meetup
DESCRIPTION:Every 3rd Thursday of the month from 6-9pm\, come join your neighbors for a beer\, hard seltzer or craft soda at the local Bunnyman Brewery! Bring your friends — even kids and dogs are welcome if they behave (and with dogs\, if we’re at a table outside). Bunnyman supplies a variety of brews\, but customers are encouraged to bring their own food and snacks or purchase meals from the food truck usually parked outside.  \nCheck out the Bonnie Brae Facebook page for updates! \n\n 
URL:https://bonniebrae.net/event/bunnyman-brewery-monthly-meetup-6/
LOCATION:Bunnyman Brewing\, 5583 Guinea Rd\, Fairfax\, Virginia
CATEGORIES:Adult & Family Socials
END:VEVENT
BEGIN:VEVENT
DTSTART;VALUE=DATE:20241221
DTEND;VALUE=DATE:20241223
DTSTAMP:20260425T135327
CREATED:20241205T140408Z
LAST-MODIFIED:20241205T140408Z
UID:382-1734739200-1734911999@bonniebrae.net
SUMMARY:Holiday Lights Contest
DESCRIPTION:Light up the neighborhood on our dark December nights to bring joy and show your holiday spirit – no matter what you celebrate! \nBonnie Brae’s Elves will review displays December 21 & 22  to choose three “Best of Bonnie Brae\,” so keep your decorations up and lit that weekend! \nWinners receive the treasured yard sign\, as well as credit for their BBCA membership dues for 2025.
URL:https://bonniebrae.net/event/holiday-lights-contest/
END:VEVENT
BEGIN:VEVENT
DTSTART;TZID=UTC:20241215T140000
DTEND;TZID=UTC:20241215T160000
DTSTAMP:20260425T135327
CREATED:20241205T125948Z
LAST-MODIFIED:20241205T125949Z
UID:379-1734271200-1734278400@bonniebrae.net
SUMMARY:Hot Cocoa with Santa
DESCRIPTION:Come join your Bonnie Brae neighbors for some hot cocoa with Santa! Bring your cameras to capture the magic that is meeting Old Saint Nick! \nBundle up since this is an outdoor event. See you there! \nEvent is listed on our Bonnie Brae Facebook Page.
URL:https://bonniebrae.net/event/hot-cocoa-with-santa/
LOCATION:Andrea McGowan’s Garage/Driveway – 5424 Southport Lane\, 5424 Southport Lane\, Fairfax\, VA\, 22032\, United States
END:VEVENT
BEGIN:VEVENT
DTSTART;TZID=UTC:20241121T180000
DTEND;TZID=UTC:20241121T210000
DTSTAMP:20260425T135327
CREATED:20240731T000635Z
LAST-MODIFIED:20240731T000635Z
UID:360-1732212000-1732222800@bonniebrae.net
SUMMARY:Bunnyman Brewery Monthly Meetup
DESCRIPTION:Every 3rd Thursday of the month from 6-9pm\, come join your neighbors for a beer\, hard seltzer or craft soda at the local Bunnyman Brewery! \nCheck out the Bonnie Brae Facebook page for updates!
URL:https://bonniebrae.net/event/bunnyman-brewery-monthly-meetup-4/
LOCATION:Bunnyman Brewing\, 5583 Guinea Rd\, Fairfax\, Virginia
END:VEVENT
BEGIN:VEVENT
DTSTART;TZID=UTC:20241017T180000
DTEND;TZID=UTC:20241017T210000
DTSTAMP:20260425T135327
CREATED:20240731T000534Z
LAST-MODIFIED:20240731T000534Z
UID:358-1729188000-1729198800@bonniebrae.net
SUMMARY:Bunnyman Brewery Monthly Meetup
DESCRIPTION:Every 3rd Thursday of the month from 6-9pm\, come join your neighbors for a beer\, hard seltzer or craft soda at the local Bunnyman Brewery! \nCheck out the Bonnie Brae Facebook page for updates!
URL:https://bonniebrae.net/event/bunnyman-brewery-monthly-meetup-3/
LOCATION:Bunnyman Brewing\, 5583 Guinea Rd\, Fairfax\, Virginia
END:VEVENT
BEGIN:VEVENT
DTSTART;TZID=UTC:20240928T170000
DTEND;TZID=UTC:20240928T200000
DTSTAMP:20260425T135327
CREATED:20240730T235918Z
LAST-MODIFIED:20240730T235918Z
UID:349-1727542800-1727553600@bonniebrae.net
SUMMARY:Bonnie Brae New Neighbor Welcome Potluck 2024
DESCRIPTION:Inclement weather may have stopped us in 2023 (twice!)\, but we’re trying again — and we have even more new neighbors to celebrate! \nDate: Saturday\, September 28th (rain date: Sunday\, September 29th)\nTime: 5pm – 8pm\nPlace: Barry & Ruth Azimi\, 10419 Nellie White Lane \n\nIt’s a potluck! BBCA will provide BBQ and soft drinks. Neighbors\, please bring a dish to share. You are welcome to BYOB if you wish.\nAll ages welcome! This is a wonderful opportunity to meet new neighbors and catch up with old friends.  It’s a fun night and the weather is usually great!\n\n——– \nElection of 2024 Bonnie Brae Civic Association Board of Directors \nAll positions are open to those who are interested in running. Questions about the roles? Contact the current members to learn more. You can nominate yourself (or someone else) in person at the event. \nInterested in active participation in BBCA\, but not interested in an elected position? Check out our committees and volunteer opportunities. \nSee you there!
URL:https://bonniebrae.net/event/bonnie-brae-new-neighbor-welcome-potluck-2024/
LOCATION:Azimis\, 10419 Nellie White Ln\, Fairfax\, VA\, 22032\, United States
END:VEVENT
BEGIN:VEVENT
DTSTART;TZID=UTC:20240919T180000
DTEND;TZID=UTC:20240919T210000
DTSTAMP:20260425T135328
CREATED:20240731T000644Z
LAST-MODIFIED:20240731T000644Z
UID:356-1726768800-1726779600@bonniebrae.net
SUMMARY:Bunnyman Brewery Monthly Meetup
DESCRIPTION:Every 3rd Thursday of the month from 6-9pm\, come join your neighbors for a beer\, hard seltzer or craft soda at the local Bunnyman Brewery! \nCheck out the Bonnie Brae Facebook page for updates!
URL:https://bonniebrae.net/event/bunnyman-brewery-monthly-meetup-5/
LOCATION:Bunnyman Brewing\, 5583 Guinea Rd\, Fairfax\, Virginia
END:VEVENT
BEGIN:VEVENT
DTSTART;TZID=UTC:20240823T183000
DTEND;TZID=UTC:20240823T183000
DTSTAMP:20260425T135328
CREATED:20240801T003430Z
LAST-MODIFIED:20240801T004753Z
UID:369-1724437800-1724437800@bonniebrae.net
SUMMARY:Book Club
DESCRIPTION:This month’s book club will be on August 23rd at 6:30 PM. We are reading “The First Lie Wins” by Ashley Elston.\n\n\nBook Club meets every other month and we read all sorts of genres.  Whoever hosts picks the book for the next session. The date is coordinated by the person who picked the last book and will be leading the discussion and the host who will pick the next book.  Frequently we are given a choice of books and we vote which one we all would like to read.  Anyone is welcome to come – even if they haven’t read the book!  We all bring a dish or dessert to share and have a great time.  There is a Facebook page for members with the current book and any information that we have on the next meeting.\n\nContact martypbeach@gmail.com for details.
URL:https://bonniebrae.net/event/book-club/
ORGANIZER;CN="Marty Beach":MAILTO:martypbeach@gmail.com
END:VEVENT
BEGIN:VEVENT
DTSTART;TZID=UTC:20240821T090000
DTEND;TZID=UTC:20240821T090000
DTSTAMP:20260425T135328
CREATED:20240801T000651Z
LAST-MODIFIED:20240801T010229Z
UID:362-1724230800-1724230800@bonniebrae.net
SUMMARY:BBCA ROMEO (Retired Old Men Eating Out) Club
DESCRIPTION:The monthly ROMEO meetings are held every 3rd Wednesday of the month at 9 am — currently at Chloez’s Cafe. We make every effort to meet at different locations to take advantage of\, and support\, our local eateries. BBCA retirees\, do join us for interesting breakfasts – and conversations! \n\nLast month (July) we had a professor from George Mason University speak about Crypto Currency. This month\, we will have a representative from the Fairfax County Services for the Aging. \n\n  \nWho are the ROMEOs? \nWe eat out\, have fun\, make and keep friends\, and are not bound by rules; that is\, no causes\, no specific membership restrictions except Retired “Old” Men Eating Out and talking. Our past meetings have touched on various subjects related to Ukraine\, Russia\, Fairfax Sr. Center\, hiking the Sierra and Appalachian Trails\, and downsizing. ROMEOS in other neighborhoods have their own schedules\, meeting for breakfast or lunch or dinner once a week\, or once a month\, or whatever works for their group. Some are composed of people with similar interests or similar past professions\, but most reflect the great mosaic that is the retired men’s community. Some have outside folks come in and talk or educate while others simply let the conversation flow. \nPlease contact: Charlie Gulac\, 703-323-6694\, email: cgulac88@gmail.com. \n\n  \n 
URL:https://bonniebrae.net/event/bbca-romeo-retired-old-men-eating-out-club-2/
LOCATION:Chloez’s Cafe\, 5622 Ox Rd Unit F\, Fairfax Station\, VA\, 22039\, United States
ORGANIZER;CN="Charlie Gulac":MAILTO:cgulac88@gmail.com
END:VEVENT
BEGIN:VEVENT
DTSTART;TZID=UTC:20240815T180000
DTEND;TZID=UTC:20240815T210000
DTSTAMP:20260425T135328
CREATED:20240731T000436Z
LAST-MODIFIED:20240731T000436Z
UID:353-1723744800-1723755600@bonniebrae.net
SUMMARY:Bunnyman Brewery Monthly Meetup
DESCRIPTION:Every 3rd Thursday of the month from 6-9pm\, come join your neighbors for a beer\, hard seltzer or craft soda at the local Bunnyman Brewery! \nCheck out the Bonnie Brae Facebook page for updates!
URL:https://bonniebrae.net/event/bunnyman-brewery-monthly-meetup-2/
LOCATION:Bunnyman Brewing\, 5583 Guinea Rd\, Fairfax\, Virginia
END:VEVENT
BEGIN:VEVENT
DTSTART;TZID=UTC:20240717T080000
DTEND;TZID=UTC:20240717T080000
DTSTAMP:20260425T135328
CREATED:20240801T002632Z
LAST-MODIFIED:20240801T010304Z
UID:366-1721203200-1721203200@bonniebrae.net
SUMMARY:BBCA ROMEO (Retired Old Men Eating Out) Club
DESCRIPTION:The monthly ROMEO meetings are held every 3rd Wednesday of the month at 9 am — currently at Chloez’s Cafe. We make every effort to meet at different locations to take advantage of\, and support\, our local eateries. BBCA retirees\, do join us for interesting breakfasts – and conversations! \n\nThis month we will have a professor from George Mason speak about Crypto Currency. \n\n  \nWho are the ROMEOs? \nWe eat out\, have fun\, make and keep friends\, and are not bound by rules; that is\, no causes\, no specific membership restrictions except Retired “Old” Men Eating Out and talking. Our past meetings have touched on various subjects related to Ukraine\, Russia\, Fairfax Sr. Center\, hiking the Sierra and Appalachian Trails\, and downsizing. ROMEOS in other neighborhoods have their own schedules\, meeting for breakfast or lunch or dinner once a week\, or once a month\, or whatever works for their group. Some are composed of people with similar interests or similar past professions\, but most reflect the great mosaic that is the retired men’s community. Some have outside folks come in and talk or educate while others simply let the conversation flow. \nPlease contact: Charlie Gulac\, 703-323-6694\, email: cgulac88@gmail.com.
URL:https://bonniebrae.net/event/bbca-romeo-retired-old-men-eating-out-club-3/
LOCATION:Chloez’s Cafe\, 5622 Ox Rd Unit F\, Fairfax Station\, VA\, 22039\, United States
ORGANIZER;CN="Charlie Gulac":MAILTO:cgulac88@gmail.com
END:VEVENT
BEGIN:VEVENT
DTSTART;TZID=UTC:20240620T180000
DTEND;TZID=UTC:20240620T210000
DTSTAMP:20260425T135328
CREATED:20240608T012950Z
LAST-MODIFIED:20240608T012950Z
UID:325-1718906400-1718917200@bonniebrae.net
SUMMARY:Bunnyman Brewery Monthly Meetup
DESCRIPTION:Every 3rd Thursday of the month from 6-9pm\, come join your neighbors for a beer\, hard seltzer or craft soda at the local Bunnyman Brewery! \nCheck out the Bonnie Brae Facebook page for updates!
URL:https://bonniebrae.net/event/bunnyman-brewery-monthly-meetup/
LOCATION:Bunnyman Brewing\, 5583 Guinea Rd\, Fairfax\, Virginia
END:VEVENT
BEGIN:VEVENT
DTSTART;TZID=UTC:20240619T090000
DTEND;TZID=UTC:20240619T090000
DTSTAMP:20260425T135328
CREATED:20240612T015909Z
LAST-MODIFIED:20240612T020112Z
UID:337-1718787600-1718787600@bonniebrae.net
SUMMARY:BBCA ROMEO (Retired Old Men Eating Out) Club
DESCRIPTION:The monthly ROMEO meetings are held every 3rd Wednesday of the month at 9 am. \nThe 1st BBCA ROMEO Club introductory meeting was held on 23 April 2023 at Chloez’s\, chloezcafe.com\, 5622 Ox Rd Unit F\, Fairfax Station\, VA 22039. We make every effort to meet at different locations to take advantage of\, and support\, our local eateries. BBCA retirees\, do join us for interesting breakfasts – and conversations! \nWho are the ROMEOs? \nWe eat out\, have fun\, make and keep friends\, and are not bound by rules; that is\, no causes\, no specific membership restrictions except Retired “Old” Men Eating Out and talking. Our past meetings have touched on various subjects related to Ukraine\, Russia\, Fairfax Sr. Center\, hiking the Sierra and Appalachian Trails\, and downsizing. ROMEOS in other neighborhoods have their own schedules\, meeting for breakfast or lunch or dinner once a week\, or once a month\, or whatever works for their group. Some are composed of people with similar interests or similar past professions\, but most reflect the great mosaic that is the retired men’s community. Some have outside folks come in and talk or educate while others simply let the conversation flow. \nPlease contact: Charlie Gulac\, 703-323-6694\, email: cgulac88@gmail.com.
URL:https://bonniebrae.net/event/bbca-romeo-retired-old-men-eating-out-club/
LOCATION:Chloez’s Cafe\, 5622 Ox Rd Unit F\, Fairfax Station\, VA\, 22039\, United States
ORGANIZER;CN="Charlie Gulac":MAILTO:cgulac88@gmail.com
END:VEVENT
BEGIN:VEVENT
DTSTART;TZID=UTC:20240607T170000
DTEND;TZID=UTC:20240607T190000
DTSTAMP:20260425T135328
CREATED:20240608T004356Z
LAST-MODIFIED:20240608T004356Z
UID:323-1717779600-1717786800@bonniebrae.net
SUMMARY:Kona Ice Start-of-Summer Social!
DESCRIPTION:We have a lot to celebrate – the start of summer\, the end of the school year\, and the launch of the new Bonnie Brae website! \nSummer is already heating up\, but there here’s some cool\, sweet relief coming! Join your Bonnie Brae neighbors for a FREE SHAVED ICE! The truck will be parked midway down Nellie White Lane (the street across from Bonnie Brae Elementary)\, near Cristfield Court.
URL:https://bonniebrae.net/event/kona-ice-start-of-summer-social/
END:VEVENT
END:VCALENDAR