BEGIN:VCALENDAR
VERSION:2.0
PRODID:-//Bonnie Brae Civic Association - ECPv6.15.20//NONSGML v1.0//EN
CALSCALE:GREGORIAN
METHOD:PUBLISH
X-WR-CALNAME:Bonnie Brae Civic Association
X-ORIGINAL-URL:https://bonniebrae.net
X-WR-CALDESC:Events for Bonnie Brae Civic Association
REFRESH-INTERVAL;VALUE=DURATION:PT1H
X-Robots-Tag:noindex
X-PUBLISHED-TTL:PT1H
BEGIN:VTIMEZONE
TZID:UTC
BEGIN:STANDARD
TZOFFSETFROM:+0000
TZOFFSETTO:+0000
TZNAME:UTC
DTSTART:20230101T000000
END:STANDARD
END:VTIMEZONE
BEGIN:VEVENT
DTSTART;TZID=UTC:20240821T090000
DTEND;TZID=UTC:20240821T090000
DTSTAMP:20260425T134044
CREATED:20240801T000651Z
LAST-MODIFIED:20240801T010229Z
UID:362-1724230800-1724230800@bonniebrae.net
SUMMARY:BBCA ROMEO (Retired Old Men Eating Out) Club
DESCRIPTION:The monthly ROMEO meetings are held every 3rd Wednesday of the month at 9 am — currently at Chloez’s Cafe. We make every effort to meet at different locations to take advantage of\, and support\, our local eateries. BBCA retirees\, do join us for interesting breakfasts – and conversations! \n\nLast month (July) we had a professor from George Mason University speak about Crypto Currency. This month\, we will have a representative from the Fairfax County Services for the Aging. \n\n  \nWho are the ROMEOs? \nWe eat out\, have fun\, make and keep friends\, and are not bound by rules; that is\, no causes\, no specific membership restrictions except Retired “Old” Men Eating Out and talking. Our past meetings have touched on various subjects related to Ukraine\, Russia\, Fairfax Sr. Center\, hiking the Sierra and Appalachian Trails\, and downsizing. ROMEOS in other neighborhoods have their own schedules\, meeting for breakfast or lunch or dinner once a week\, or once a month\, or whatever works for their group. Some are composed of people with similar interests or similar past professions\, but most reflect the great mosaic that is the retired men’s community. Some have outside folks come in and talk or educate while others simply let the conversation flow. \nPlease contact: Charlie Gulac\, 703-323-6694\, email: cgulac88@gmail.com. \n\n  \n 
URL:https://bonniebrae.net/event/bbca-romeo-retired-old-men-eating-out-club-2/
LOCATION:Chloez’s Cafe\, 5622 Ox Rd Unit F\, Fairfax Station\, VA\, 22039\, United States
ORGANIZER;CN="Charlie Gulac":MAILTO:cgulac88@gmail.com
END:VEVENT
BEGIN:VEVENT
DTSTART;TZID=UTC:20240815T180000
DTEND;TZID=UTC:20240815T210000
DTSTAMP:20260425T134044
CREATED:20240731T000436Z
LAST-MODIFIED:20240731T000436Z
UID:353-1723744800-1723755600@bonniebrae.net
SUMMARY:Bunnyman Brewery Monthly Meetup
DESCRIPTION:Every 3rd Thursday of the month from 6-9pm\, come join your neighbors for a beer\, hard seltzer or craft soda at the local Bunnyman Brewery! \nCheck out the Bonnie Brae Facebook page for updates!
URL:https://bonniebrae.net/event/bunnyman-brewery-monthly-meetup-2/
LOCATION:Bunnyman Brewing\, 5583 Guinea Rd\, Fairfax\, Virginia
END:VEVENT
BEGIN:VEVENT
DTSTART;TZID=UTC:20240717T080000
DTEND;TZID=UTC:20240717T080000
DTSTAMP:20260425T134044
CREATED:20240801T002632Z
LAST-MODIFIED:20240801T010304Z
UID:366-1721203200-1721203200@bonniebrae.net
SUMMARY:BBCA ROMEO (Retired Old Men Eating Out) Club
DESCRIPTION:The monthly ROMEO meetings are held every 3rd Wednesday of the month at 9 am — currently at Chloez’s Cafe. We make every effort to meet at different locations to take advantage of\, and support\, our local eateries. BBCA retirees\, do join us for interesting breakfasts – and conversations! \n\nThis month we will have a professor from George Mason speak about Crypto Currency. \n\n  \nWho are the ROMEOs? \nWe eat out\, have fun\, make and keep friends\, and are not bound by rules; that is\, no causes\, no specific membership restrictions except Retired “Old” Men Eating Out and talking. Our past meetings have touched on various subjects related to Ukraine\, Russia\, Fairfax Sr. Center\, hiking the Sierra and Appalachian Trails\, and downsizing. ROMEOS in other neighborhoods have their own schedules\, meeting for breakfast or lunch or dinner once a week\, or once a month\, or whatever works for their group. Some are composed of people with similar interests or similar past professions\, but most reflect the great mosaic that is the retired men’s community. Some have outside folks come in and talk or educate while others simply let the conversation flow. \nPlease contact: Charlie Gulac\, 703-323-6694\, email: cgulac88@gmail.com.
URL:https://bonniebrae.net/event/bbca-romeo-retired-old-men-eating-out-club-3/
LOCATION:Chloez’s Cafe\, 5622 Ox Rd Unit F\, Fairfax Station\, VA\, 22039\, United States
ORGANIZER;CN="Charlie Gulac":MAILTO:cgulac88@gmail.com
END:VEVENT
BEGIN:VEVENT
DTSTART;TZID=UTC:20240620T180000
DTEND;TZID=UTC:20240620T210000
DTSTAMP:20260425T134044
CREATED:20240608T012950Z
LAST-MODIFIED:20240608T012950Z
UID:325-1718906400-1718917200@bonniebrae.net
SUMMARY:Bunnyman Brewery Monthly Meetup
DESCRIPTION:Every 3rd Thursday of the month from 6-9pm\, come join your neighbors for a beer\, hard seltzer or craft soda at the local Bunnyman Brewery! \nCheck out the Bonnie Brae Facebook page for updates!
URL:https://bonniebrae.net/event/bunnyman-brewery-monthly-meetup/
LOCATION:Bunnyman Brewing\, 5583 Guinea Rd\, Fairfax\, Virginia
END:VEVENT
BEGIN:VEVENT
DTSTART;TZID=UTC:20240619T090000
DTEND;TZID=UTC:20240619T090000
DTSTAMP:20260425T134044
CREATED:20240612T015909Z
LAST-MODIFIED:20240612T020112Z
UID:337-1718787600-1718787600@bonniebrae.net
SUMMARY:BBCA ROMEO (Retired Old Men Eating Out) Club
DESCRIPTION:The monthly ROMEO meetings are held every 3rd Wednesday of the month at 9 am. \nThe 1st BBCA ROMEO Club introductory meeting was held on 23 April 2023 at Chloez’s\, chloezcafe.com\, 5622 Ox Rd Unit F\, Fairfax Station\, VA 22039. We make every effort to meet at different locations to take advantage of\, and support\, our local eateries. BBCA retirees\, do join us for interesting breakfasts – and conversations! \nWho are the ROMEOs? \nWe eat out\, have fun\, make and keep friends\, and are not bound by rules; that is\, no causes\, no specific membership restrictions except Retired “Old” Men Eating Out and talking. Our past meetings have touched on various subjects related to Ukraine\, Russia\, Fairfax Sr. Center\, hiking the Sierra and Appalachian Trails\, and downsizing. ROMEOS in other neighborhoods have their own schedules\, meeting for breakfast or lunch or dinner once a week\, or once a month\, or whatever works for their group. Some are composed of people with similar interests or similar past professions\, but most reflect the great mosaic that is the retired men’s community. Some have outside folks come in and talk or educate while others simply let the conversation flow. \nPlease contact: Charlie Gulac\, 703-323-6694\, email: cgulac88@gmail.com.
URL:https://bonniebrae.net/event/bbca-romeo-retired-old-men-eating-out-club/
LOCATION:Chloez’s Cafe\, 5622 Ox Rd Unit F\, Fairfax Station\, VA\, 22039\, United States
ORGANIZER;CN="Charlie Gulac":MAILTO:cgulac88@gmail.com
END:VEVENT
BEGIN:VEVENT
DTSTART;TZID=UTC:20240607T170000
DTEND;TZID=UTC:20240607T190000
DTSTAMP:20260425T134044
CREATED:20240608T004356Z
LAST-MODIFIED:20240608T004356Z
UID:323-1717779600-1717786800@bonniebrae.net
SUMMARY:Kona Ice Start-of-Summer Social!
DESCRIPTION:We have a lot to celebrate – the start of summer\, the end of the school year\, and the launch of the new Bonnie Brae website! \nSummer is already heating up\, but there here’s some cool\, sweet relief coming! Join your Bonnie Brae neighbors for a FREE SHAVED ICE! The truck will be parked midway down Nellie White Lane (the street across from Bonnie Brae Elementary)\, near Cristfield Court.
URL:https://bonniebrae.net/event/kona-ice-start-of-summer-social/
LOCATION:VA
END:VEVENT
END:VCALENDAR