BEGIN:VCALENDAR
VERSION:2.0
PRODID:-//Bonnie Brae Civic Association - ECPv6.15.20//NONSGML v1.0//EN
CALSCALE:GREGORIAN
METHOD:PUBLISH
X-WR-CALNAME:Bonnie Brae Civic Association
X-ORIGINAL-URL:https://bonniebrae.net
X-WR-CALDESC:Events for Bonnie Brae Civic Association
REFRESH-INTERVAL;VALUE=DURATION:PT1H
X-Robots-Tag:noindex
X-PUBLISHED-TTL:PT1H
BEGIN:VTIMEZONE
TZID:UTC
BEGIN:STANDARD
TZOFFSETFROM:+0000
TZOFFSETTO:+0000
TZNAME:UTC
DTSTART:20240101T000000
END:STANDARD
END:VTIMEZONE
BEGIN:VEVENT
DTSTART;TZID=UTC:20250717T180000
DTEND;TZID=UTC:20250717T210000
DTSTAMP:20260425T032530
CREATED:20250112T024451Z
LAST-MODIFIED:20250112T024451Z
UID:400-1752775200-1752786000@bonniebrae.net
SUMMARY:Bunnyman Brewery Monthly Meetup
DESCRIPTION:Every 3rd Thursday of the month from 6-9pm\, come join your neighbors for a beer\, hard seltzer or craft soda at the local Bunnyman Brewery! Bring your friends — even kids and dogs are welcome if they behave (and with dogs\, if we’re at a table outside). Bunnyman supplies a variety of brews\, but customers are encouraged to bring their own food and snacks or purchase meals from the food truck usually parked outside.  \nCheck out the Bonnie Brae Facebook page for updates!
URL:https://bonniebrae.net/event/bunnyman-brewery-monthly-meetup-12/
LOCATION:Bunnyman Brewing\, 5583 Guinea Rd\, Fairfax\, Virginia
CATEGORIES:Adult & Family Socials
END:VEVENT
END:VCALENDAR