BEGIN:VCALENDAR
VERSION:2.0
PRODID:-//Bonnie Brae Civic Association - ECPv6.15.20//NONSGML v1.0//EN
CALSCALE:GREGORIAN
METHOD:PUBLISH
X-WR-CALNAME:Bonnie Brae Civic Association
X-ORIGINAL-URL:https://bonniebrae.net
X-WR-CALDESC:Events for Bonnie Brae Civic Association
REFRESH-INTERVAL;VALUE=DURATION:PT1H
X-Robots-Tag:noindex
X-PUBLISHED-TTL:PT1H
BEGIN:VTIMEZONE
TZID:UTC
BEGIN:STANDARD
TZOFFSETFROM:+0000
TZOFFSETTO:+0000
TZNAME:UTC
DTSTART:20240101T000000
END:STANDARD
END:VTIMEZONE
BEGIN:VEVENT
DTSTART;TZID=UTC:20250918T180000
DTEND;TZID=UTC:20250918T210000
DTSTAMP:20260425T000615
CREATED:20250112T024558Z
LAST-MODIFIED:20250112T024558Z
UID:393-1758218400-1758229200@bonniebrae.net
SUMMARY:Bunnyman Brewery Monthly Meetup
DESCRIPTION:Every 3rd Thursday of the month from 6-9pm\, come join your neighbors for a beer\, hard seltzer or craft soda at the local Bunnyman Brewery! Bring your friends — even kids and dogs are welcome if they behave (and with dogs\, if we’re at a table outside). Bunnyman supplies a variety of brews\, but customers are encouraged to bring their own food and snacks or purchase meals from the food truck usually parked outside.  \nCheck out the Bonnie Brae Facebook page for updates!
URL:https://bonniebrae.net/event/bunnyman-brewery-monthly-meetup-14/
LOCATION:Bunnyman Brewing\, 5583 Guinea Rd\, Fairfax\, Virginia
CATEGORIES:Adult & Family Socials
END:VEVENT
BEGIN:VEVENT
DTSTART;TZID=UTC:20250927T170000
DTEND;TZID=UTC:20250927T200000
DTSTAMP:20260425T000615
CREATED:20250902T015603Z
LAST-MODIFIED:20250927T181831Z
UID:473-1758992400-1759003200@bonniebrae.net
SUMMARY:CANCELLED: New Neighbor Welcome Potluck 2025
DESCRIPTION:***UNFORTUNATELY\, CANCELLED DUE TO RAIN*** \nThis is the Bonnie Brae Community’s annual New Neighbor Welcome Party! Thank you to Barry and Ruth Azimi for hosting! \n•We have 9+ new families to welcome since last year! This is a wonderful opportunity to meet new neighbors and catch up with old friends. All ages welcome. \n•It’s a potluck! BBCA will provide a TACO BAR\, Sangria and soft drinks. Please bring a dish to share. You are welcome to BYOB if you wish. \n  \nElection of 2025 Bonnie Brae Civic Association Board of Directors \n•All positions are open to those who are interested in running – nominations and voting will occur at the potluck. \n•Questions about the roles? You’ll find more information on our website under Membership > Board of Directors: https://bonniebrae.net/board-of-directors/ \n•Information about our committees and volunteer opportunities are also available on our website under Membership. \nSee you at the potluck! \nLink to the event on Nextdoor: <https://nextdoor.com/p/qzP6dCy8GgrR?utm_source=share&extras=MTMwNDY1MjE%3D&ne_link_preview_links=&utm_campaign=1756777799594&share_action_id=362e30d2-acdb-472c-b16a-a818301e662f> \nLink to the event on our Facebook page: <https://fb.me/e/5UsRYOrwF>
URL:https://bonniebrae.net/event/new-neighbor-welcome-potluck-2025/
LOCATION:Azimis\, 10419 Nellie White Ln\, Fairfax\, VA\, 22032\, United States
END:VEVENT
END:VCALENDAR