BEGIN:VCALENDAR
VERSION:2.0
PRODID:-//Bonnie Brae Civic Association - ECPv6.15.20//NONSGML v1.0//EN
CALSCALE:GREGORIAN
METHOD:PUBLISH
X-ORIGINAL-URL:https://bonniebrae.net
X-WR-CALDESC:Events for Bonnie Brae Civic Association
REFRESH-INTERVAL;VALUE=DURATION:PT1H
X-Robots-Tag:noindex
X-PUBLISHED-TTL:PT1H
BEGIN:VTIMEZONE
TZID:UTC
BEGIN:STANDARD
TZOFFSETFROM:+0000
TZOFFSETTO:+0000
TZNAME:UTC
DTSTART:20240101T000000
END:STANDARD
END:VTIMEZONE
BEGIN:VEVENT
DTSTART;TZID=UTC:20251101T170000
DTEND;TZID=UTC:20251101T200000
DTSTAMP:20260424T211432
CREATED:20251022T013709Z
LAST-MODIFIED:20251022T013709Z
UID:486-1762016400-1762027200@bonniebrae.net
SUMMARY:Halloween Party
DESCRIPTION:Calling all neighborhood ghouls and goblins! \nJoin us the day after Halloween\, Friday\, November 1st (Dia de Los Muertos — Day of the Dead)\, to keep the spooky season alive. \nThe BBCA will provide a TACO BAR (while supplies last)\, sangria and soft drinks. You are welcome to bring a snack to share or BYOB if you wish! \nCostumes optional\, but feel free to wear your best Halloween costume\, or perhaps a beautiful Día de Muertos-inspired look.
URL:https://bonniebrae.net/event/halloween-party/
LOCATION:5406 Southport Ln\, 5406 Southport Ln\, Fairfax\, VA\, United States
END:VEVENT
END:VCALENDAR