BEGIN:VCALENDAR
VERSION:2.0
PRODID:-//Bonnie Brae Civic Association - ECPv6.15.20//NONSGML v1.0//EN
CALSCALE:GREGORIAN
METHOD:PUBLISH
X-WR-CALNAME:Bonnie Brae Civic Association
X-ORIGINAL-URL:https://bonniebrae.net
X-WR-CALDESC:Events for Bonnie Brae Civic Association
REFRESH-INTERVAL;VALUE=DURATION:PT1H
X-Robots-Tag:noindex
X-PUBLISHED-TTL:PT1H
BEGIN:VTIMEZONE
TZID:UTC
BEGIN:STANDARD
TZOFFSETFROM:+0000
TZOFFSETTO:+0000
TZNAME:UTC
DTSTART:20250101T000000
END:STANDARD
END:VTIMEZONE
BEGIN:VEVENT
DTSTART;TZID=UTC:20260502T080000
DTEND;TZID=UTC:20260502T130000
DTSTAMP:20260424T154305
CREATED:20260419T035920Z
LAST-MODIFIED:20260419T035920Z
UID:509-1777708800-1777726800@bonniebrae.net
SUMMARY:Spring Yard Sale
DESCRIPTION:Date: Saturday\, May 2nd \nTime: 8am – 1pm \nOther neighboring communities are having yard sales the same day/weekend. \nIf you would like mailbox balloons to advertise your participation\, provide your address to Charlie Gulac (cgulac88@gmail.com).
URL:https://bonniebrae.net/event/spring-yard-sale/
ORGANIZER;CN="Charlie Gulac":MAILTO:cgulac88@gmail.com
END:VEVENT
BEGIN:VEVENT
DTSTART;TZID=UTC:20260502T180000
DTEND;TZID=UTC:20260502T210000
DTSTAMP:20260424T154305
CREATED:20260419T035640Z
LAST-MODIFIED:20260419T035640Z
UID:506-1777744800-1777755600@bonniebrae.net
SUMMARY:Derby Progressive Dinner
DESCRIPTION:Join your neighbors for a Progressive Dinner and Kentucky Derby watch party! Adults only. Wear your best hat! \n\nAppetizers – 6PM\nDinner – 7-8PM\nDessert 8-9PM\n\nRSPV Required by April 27 to sign up to contribute a dish or dessert\, OR pay $15/person. For more information to sign up\, contact Marty Beach at 703-927-9341 or martypbeach@gmail.com. \n 
URL:https://bonniebrae.net/event/derby-progressive-dinner/
ORGANIZER;CN="Marty Beach":MAILTO:martypbeach@gmail.com
END:VEVENT
END:VCALENDAR